BEGIN:VCALENDAR
VERSION:2.0
PRODID:-//wp-events-plugin.com//6.6.3//EN
TZID:Europe/London
X-WR-TIMEZONE:Europe/London
BEGIN:VEVENT
UID:34@caledoniandandies.com
DTSTART;TZID=Europe/London;VALUE=DATE:20250725
DTEND;TZID=Europe/London;VALUE=DATE:20250726
DTSTAMP:20241227T122551Z
URL:https://caledoniandandies.com/events/leeds-dog-show-terrier-day/
SUMMARY:Leeds Dog Show - Terrier Day
DESCRIPTION:
CATEGORIES:Championship Shows
END:VEVENT
BEGIN:VTIMEZONE
TZID:Europe/London
X-LIC-LOCATION:Europe/London
BEGIN:DAYLIGHT
DTSTART:20250330T020000
TZOFFSETFROM:+0000
TZOFFSETTO:+0100
TZNAME:BST
END:DAYLIGHT
END:VTIMEZONE
END:VCALENDAR